BEGIN:VCALENDAR
VERSION:2.0
PRODID:-//Arizona Municipal Risk Retention Pool - ECPv6.15.18//NONSGML v1.0//EN
CALSCALE:GREGORIAN
METHOD:PUBLISH
X-ORIGINAL-URL:https://www.amrrp.org
X-WR-CALDESC:Events for Arizona Municipal Risk Retention Pool
REFRESH-INTERVAL;VALUE=DURATION:PT1H
X-Robots-Tag:noindex
X-PUBLISHED-TTL:PT1H
BEGIN:VTIMEZONE
TZID:America/Phoenix
BEGIN:STANDARD
TZOFFSETFROM:-0700
TZOFFSETTO:-0700
TZNAME:MST
DTSTART:20240101T000000
END:STANDARD
END:VTIMEZONE
BEGIN:VEVENT
DTSTART;TZID=America/Phoenix:20251204T100000
DTEND;TZID=America/Phoenix:20251204T130000
DTSTAMP:20260420T035450
CREATED:20250102T175416Z
LAST-MODIFIED:20251201T212019Z
UID:10000355-1764842400-1764853200@www.amrrp.org
SUMMARY:AMRRP Board of Trustees Meeting
DESCRIPTION:Call-in: 1-818-308-9175\nAccess: 752 135 386# \n  Virtual  was last modified:  January 2nd\, 2025  by
URL:https://www.amrrp.org/event/amrrp-board-of-trustees-meeting-12/
LOCATION:Virtual
CATEGORIES:Board & Committee Meetings
ORGANIZER;CN="Ashlie Alliger":MAILTO:aalliger@berkleyrisk.com
END:VEVENT
BEGIN:VEVENT
DTSTART;TZID=America/Phoenix:20251120T110000
DTEND;TZID=America/Phoenix:20251120T113000
DTSTAMP:20260420T035450
CREATED:20250102T174507Z
LAST-MODIFIED:20251114T190228Z
UID:10000353-1763636400-1763638200@www.amrrp.org
SUMMARY:AMRRP Executive Committee Meeting
DESCRIPTION:Call-In: 1-818-308-9175\nAccess Code: 463 145 738# \n  Virtual  was last modified:  January 2nd\, 2025  by
URL:https://www.amrrp.org/event/amrrp-executive-committee-meeting-20/
LOCATION:Virtual
CATEGORIES:Board & Committee Meetings
ORGANIZER;CN="Ashlie Alliger":MAILTO:aalliger@berkleyrisk.com
END:VEVENT
BEGIN:VEVENT
DTSTART;TZID=America/Phoenix:20250805T103000
DTEND;TZID=America/Phoenix:20250805T113000
DTSTAMP:20260420T035450
CREATED:20250102T173757Z
LAST-MODIFIED:20250804T193025Z
UID:10000350-1754389800-1754393400@www.amrrp.org
SUMMARY:AMRRP Finance Committee Meeting
DESCRIPTION:Call-In 1-818-308-9175\nAccess Code 438 301 989# \n  Virtual  was last modified:  January 2nd\, 2025  by
URL:https://www.amrrp.org/event/amrrp-finance-committee-meeting-9/
LOCATION:Virtual
CATEGORIES:Board & Committee Meetings
ORGANIZER;CN="Ashlie Alliger":MAILTO:aalliger@berkleyrisk.com
END:VEVENT
BEGIN:VEVENT
DTSTART;TZID=America/Phoenix:20250805T100000
DTEND;TZID=America/Phoenix:20250805T103000
DTSTAMP:20260420T035450
CREATED:20250102T173647Z
LAST-MODIFIED:20250804T192934Z
UID:10000349-1754388000-1754389800@www.amrrp.org
SUMMARY:AMRRP Executive Committee Meeting
DESCRIPTION:Call-In 1-818-308-9175\nAccess Code 526 119 354# \n  Virtual  was last modified:  January 2nd\, 2025  by
URL:https://www.amrrp.org/event/amrrp-executive-committee-meeting-19/
LOCATION:Virtual
CATEGORIES:Board & Committee Meetings
ORGANIZER;CN="Ashlie Alliger":MAILTO:aalliger@berkleyrisk.com
END:VEVENT
BEGIN:VEVENT
DTSTART;TZID=America/Phoenix:20250429T100000
DTEND;TZID=America/Phoenix:20250429T130000
DTSTAMP:20260420T035450
CREATED:20250102T173508Z
LAST-MODIFIED:20250416T144805Z
UID:10000348-1745920800-1745931600@www.amrrp.org
SUMMARY:AMRRP Board of Trustees Meeting
DESCRIPTION:Call-In: 818-308-9175 \nAccess: 714 272 959# \n  Virtual  was last modified:  January 2nd\, 2025  by
URL:https://www.amrrp.org/event/amrrp-board-of-trustees-meeting-11/
LOCATION:Virtual
CATEGORIES:Board & Committee Meetings
ORGANIZER;CN="Ashlie Alliger":MAILTO:aalliger@berkleyrisk.com
END:VEVENT
BEGIN:VEVENT
DTSTART;TZID=America/Phoenix:20250422T093000
DTEND;TZID=America/Phoenix:20250422T110000
DTSTAMP:20260420T035450
CREATED:20250102T173257Z
LAST-MODIFIED:20250416T144727Z
UID:10000347-1745314200-1745319600@www.amrrp.org
SUMMARY:AMRRP Finance Committee Meeting
DESCRIPTION:Call-In: 818-308-9175 \nAccess: 170 407 689# \n  Virtual  was last modified:  January 2nd\, 2025  by
URL:https://www.amrrp.org/event/amrrp-finance-committee-meeting-8/
LOCATION:Virtual
CATEGORIES:Board & Committee Meetings
ORGANIZER;CN="Ashlie Alliger":MAILTO:aalliger@berkleyrisk.com
END:VEVENT
BEGIN:VEVENT
DTSTART;TZID=America/Phoenix:20250421T143000
DTEND;TZID=America/Phoenix:20250421T150000
DTSTAMP:20260420T035450
CREATED:20250102T173153Z
LAST-MODIFIED:20250416T144827Z
UID:10000346-1745245800-1745247600@www.amrrp.org
SUMMARY:AMRRP Executive Committee Meeting
DESCRIPTION:Call-In: 818-308-9175 \nAccess: 608 580 689# \n  Virtual  was last modified:  January 2nd\, 2025  by
URL:https://www.amrrp.org/event/amrrp-executive-committee-meeting-18/
LOCATION:Virtual
CATEGORIES:Board & Committee Meetings
ORGANIZER;CN="Ashlie Alliger":MAILTO:aalliger@berkleyrisk.com
END:VEVENT
BEGIN:VEVENT
DTSTART;TZID=America/Phoenix:20250325T113000
DTEND;TZID=America/Phoenix:20250325T120000
DTSTAMP:20260420T035450
CREATED:20250304T153243Z
LAST-MODIFIED:20250304T153440Z
UID:10000358-1742902200-1742904000@www.amrrp.org
SUMMARY:AMRRP Board of Trustees Meeting
DESCRIPTION:Visit the Arizona Department of Administration website for upcoming meeting agendas\, or view at the League of Arizona Cities and Towns building. \nPhone Conference Details \nPhone: 1-818-308-9175 \nCode: 84524448# \n  Virtual  was last modified:  January 2nd\, 2025  by
URL:https://www.amrrp.org/event/amrrp-board-of-trustees-meeting-13/
LOCATION:Virtual
CATEGORIES:Board & Committee Meetings
ORGANIZER;CN="Tiffani Burleson":MAILTO:tburleson@berkleyrisk.com
END:VEVENT
BEGIN:VEVENT
DTSTART;TZID=America/Phoenix:20250121T100000
DTEND;TZID=America/Phoenix:20250121T103000
DTSTAMP:20260420T035450
CREATED:20250102T172509Z
LAST-MODIFIED:20250115T233228Z
UID:10000344-1737453600-1737455400@www.amrrp.org
SUMMARY:AMRRP Executive Committee
DESCRIPTION:Call-In 1-818-308-9175\nAccess 742 955 417# \n  Virtual  was last modified:  January 2nd\, 2025  by
URL:https://www.amrrp.org/event/amrrp-executive-committee/
LOCATION:Virtual
CATEGORIES:Board & Committee Meetings
ORGANIZER;CN="Tiffani Burleson":MAILTO:tburleson@berkleyrisk.com
END:VEVENT
END:VCALENDAR