BEGIN:VCALENDAR
VERSION:2.0
PRODID:-//Arizona Municipal Risk Retention Pool - ECPv6.15.18//NONSGML v1.0//EN
CALSCALE:GREGORIAN
METHOD:PUBLISH
X-WR-CALNAME:Arizona Municipal Risk Retention Pool
X-ORIGINAL-URL:https://www.amrrp.org
X-WR-CALDESC:Events for Arizona Municipal Risk Retention Pool
REFRESH-INTERVAL;VALUE=DURATION:PT1H
X-Robots-Tag:noindex
X-PUBLISHED-TTL:PT1H
BEGIN:VTIMEZONE
TZID:America/Phoenix
BEGIN:STANDARD
TZOFFSETFROM:-0700
TZOFFSETTO:-0700
TZNAME:MST
DTSTART:20230101T000000
END:STANDARD
END:VTIMEZONE
BEGIN:VEVENT
DTSTART;VALUE=DATE:20240921
DTEND;VALUE=DATE:20240926
DTSTAMP:20260424T030903
CREATED:20240116T215858Z
LAST-MODIFIED:20240219T150708Z
UID:10000340-1726876800-1727308799@www.amrrp.org
SUMMARY:ICMA Annual Conference
DESCRIPTION:2024 ICMA Pittsburgh\n\n\n\n\n\n\n\n\n  Pittsburg Allegheny County\, PA  was last modified:  January 16th\, 2024  by
URL:https://www.amrrp.org/event/icma-annual-conference-2/
LOCATION:Pittsburg Allegheny County\, PA
CATEGORIES:Partner Conferences
ORGANIZER;CN="Ashlie Alliger":MAILTO:aalliger@berkleyrisk.com
END:VEVENT
END:VCALENDAR